BEGIN:VCALENDAR
VERSION:2.0
PRODID:-//Village of Upper Brookville - ECPv6.6.4.2//NONSGML v1.0//EN
CALSCALE:GREGORIAN
METHOD:PUBLISH
X-WR-CALNAME:Village of Upper Brookville
X-ORIGINAL-URL:https://upperbrookville.gov
X-WR-CALDESC:Events for Village of Upper Brookville
REFRESH-INTERVAL;VALUE=DURATION:PT1H
X-Robots-Tag:noindex
X-PUBLISHED-TTL:PT1H
BEGIN:VTIMEZONE
TZID:America/New_York
BEGIN:DAYLIGHT
TZOFFSETFROM:-0500
TZOFFSETTO:-0400
TZNAME:EDT
DTSTART:20240310T070000
END:DAYLIGHT
BEGIN:STANDARD
TZOFFSETFROM:-0400
TZOFFSETTO:-0500
TZNAME:EST
DTSTART:20241103T060000
END:STANDARD
END:VTIMEZONE
BEGIN:VEVENT
DTSTART;TZID=America/New_York:20241202T170000
DTEND;TZID=America/New_York:20241202T170000
DTSTAMP:20260421T031745
CREATED:20231120T211459Z
LAST-MODIFIED:20241105T191959Z
UID:2779-1733158800-1733158800@upperbrookville.gov
SUMMARY:VILLAGE COURT
DESCRIPTION:THE BROOKVILLE REFORM CHURCH \n2 BROOKVILLE RD \nGLEN HEAD\, NY  11545
URL:https://upperbrookville.gov/event/village-court-88/
END:VEVENT
BEGIN:VEVENT
DTSTART;TZID=America/New_York:20241210T110000
DTEND;TZID=America/New_York:20241210T110000
DTSTAMP:20260421T031745
CREATED:20231005T190837Z
LAST-MODIFIED:20241209T201047Z
UID:2749-1733828400-1733828400@upperbrookville.gov
SUMMARY:BOARD OF TRUSTEES - RESCHEDULED
DESCRIPTION:VILLAGE HALL \n24 WOLVER HOLLOW RD \nGLEN HEAD\, NY  11545
URL:https://upperbrookville.gov/event/board-of-trustees-21/
END:VEVENT
BEGIN:VEVENT
DTSTART;TZID=America/New_York:20241224T123000
DTEND;TZID=America/New_York:20241224T123000
DTSTAMP:20260421T031745
CREATED:20241106T165137Z
LAST-MODIFIED:20241106T165234Z
UID:2913-1735043400-1735043400@upperbrookville.gov
SUMMARY:CHRISTMAS EVE - CLOSED AT 12:30PM
DESCRIPTION:
URL:https://upperbrookville.gov/event/christmas-eve-closed-at-1230pm/
END:VEVENT
BEGIN:VEVENT
DTSTART;VALUE=DATE:20241225
DTEND;VALUE=DATE:20241226
DTSTAMP:20260421T031745
CREATED:20231005T184351Z
LAST-MODIFIED:20241217T211705Z
UID:2738-1735084800-1735171199@upperbrookville.gov
SUMMARY:CHRISTMAS - CLOSED
DESCRIPTION:
URL:https://upperbrookville.gov/event/christmas-closed-2/
END:VEVENT
BEGIN:VEVENT
DTSTART;VALUE=DATE:20241226
DTEND;VALUE=DATE:20241227
DTSTAMP:20260421T031745
CREATED:20241217T211748Z
LAST-MODIFIED:20241217T211948Z
UID:2924-1735171200-1735257599@upperbrookville.gov
SUMMARY:VILLAGE HALL CLOSED
DESCRIPTION:
URL:https://upperbrookville.gov/event/village-hall-closed/
END:VEVENT
BEGIN:VEVENT
DTSTART;TZID=America/New_York:20241231T123000
DTEND;TZID=America/New_York:20241231T123000
DTSTAMP:20260421T031745
CREATED:20241106T153616Z
LAST-MODIFIED:20241106T165358Z
UID:2879-1735648200-1735648200@upperbrookville.gov
SUMMARY:NEW YEARS EVE - CLOSED AT 12:30PM
DESCRIPTION:
URL:https://upperbrookville.gov/event/new-years-eve-closed-at-1230pm/
END:VEVENT
END:VCALENDAR