BEGIN:VCALENDAR
VERSION:2.0
PRODID:-//Village of Upper Brookville - ECPv6.6.4.2//NONSGML v1.0//EN
CALSCALE:GREGORIAN
METHOD:PUBLISH
X-WR-CALNAME:Village of Upper Brookville
X-ORIGINAL-URL:https://upperbrookville.gov
X-WR-CALDESC:Events for Village of Upper Brookville
REFRESH-INTERVAL;VALUE=DURATION:PT1H
X-Robots-Tag:noindex
X-PUBLISHED-TTL:PT1H
BEGIN:VTIMEZONE
TZID:America/New_York
BEGIN:DAYLIGHT
TZOFFSETFROM:-0500
TZOFFSETTO:-0400
TZNAME:EDT
DTSTART:20250309T070000
END:DAYLIGHT
BEGIN:STANDARD
TZOFFSETFROM:-0400
TZOFFSETTO:-0500
TZNAME:EST
DTSTART:20251102T060000
END:STANDARD
END:VTIMEZONE
BEGIN:VEVENT
DTSTART;TZID=America/New_York:20250203T170000
DTEND;TZID=America/New_York:20250203T170000
DTSTAMP:20260420T232428
CREATED:20241106T154304Z
LAST-MODIFIED:20241106T154427Z
UID:2883-1738602000-1738602000@upperbrookville.gov
SUMMARY:VILLAGE COURT
DESCRIPTION:BROOKVILLE REFORMED CHURCH \n2 BROOKVILLE RD \nGLEN HEAD\, NY  11545
URL:https://upperbrookville.gov/event/village-court-90/
END:VEVENT
BEGIN:VEVENT
DTSTART;TZID=America/New_York:20250217T080000
DTEND;TZID=America/New_York:20250217T170000
DTSTAMP:20260420T232428
CREATED:20241106T154515Z
LAST-MODIFIED:20241106T154519Z
UID:2884-1739779200-1739811600@upperbrookville.gov
SUMMARY:PRESIDENTS DAY - CLOSED
DESCRIPTION:
URL:https://upperbrookville.gov/event/presidents-day-closed/
END:VEVENT
BEGIN:VEVENT
DTSTART;TZID=America/New_York:20250220T200000
DTEND;TZID=America/New_York:20250220T200000
DTSTAMP:20260420T232428
CREATED:20241106T154629Z
LAST-MODIFIED:20250205T212008Z
UID:2885-1740081600-1740081600@upperbrookville.gov
SUMMARY:BOARD OF TRUSTEES MEETING - TIME CHANGE
DESCRIPTION:VILLAGE HALL \n24 WOLVER HOLLOW RD \nGLEN HEAD\, NY  11545
URL:https://upperbrookville.gov/event/board-of-trustees-meeting-66/
END:VEVENT
END:VCALENDAR