BEGIN:VCALENDAR
VERSION:2.0
PRODID:-//Village of Upper Brookville - ECPv6.6.4.2//NONSGML v1.0//EN
CALSCALE:GREGORIAN
METHOD:PUBLISH
X-ORIGINAL-URL:https://upperbrookville.gov
X-WR-CALDESC:Events for Village of Upper Brookville
REFRESH-INTERVAL;VALUE=DURATION:PT1H
X-Robots-Tag:noindex
X-PUBLISHED-TTL:PT1H
BEGIN:VTIMEZONE
TZID:America/New_York
BEGIN:DAYLIGHT
TZOFFSETFROM:-0500
TZOFFSETTO:-0400
TZNAME:EDT
DTSTART:20260308T070000
END:DAYLIGHT
BEGIN:STANDARD
TZOFFSETFROM:-0400
TZOFFSETTO:-0500
TZNAME:EST
DTSTART:20261101T060000
END:STANDARD
END:VTIMEZONE
BEGIN:VEVENT
DTSTART;TZID=America/New_York:20260202T170000
DTEND;TZID=America/New_York:20260202T170000
DTSTAMP:20260420T143747
CREATED:20260106T195643Z
LAST-MODIFIED:20260106T195646Z
UID:3042-1770051600-1770051600@upperbrookville.gov
SUMMARY:VILLAGE COURT
DESCRIPTION:BROOKVILLE REFORMED CHURCH \n2 BROOKVILLE RD \nGLEN HEAD\, NY  11545
URL:https://upperbrookville.gov/event/village-court-101/
END:VEVENT
BEGIN:VEVENT
DTSTART;VALUE=DATE:20260216
DTEND;VALUE=DATE:20260217
DTSTAMP:20260420T143747
CREATED:20260115T164140Z
LAST-MODIFIED:20260115T164143Z
UID:3061-1771200000-1771286399@upperbrookville.gov
SUMMARY:WASHINGTON'S BIRTHDAY - VILLAGE CLOSED
DESCRIPTION:
URL:https://upperbrookville.gov/event/washingtons-birthday-village-closed/
END:VEVENT
BEGIN:VEVENT
DTSTART;TZID=America/New_York:20260219T173000
DTEND;TZID=America/New_York:20260219T173000
DTSTAMP:20260420T143747
CREATED:20260106T193500Z
LAST-MODIFIED:20260106T193504Z
UID:3030-1771522200-1771522200@upperbrookville.gov
SUMMARY:BOARD OF TRUSTEES MEETING
DESCRIPTION:VILLAGE HALL \n24 WOLVER HOLLOW RD \nGLEN HEAD\, NY  11545
URL:https://upperbrookville.gov/event/board-of-trustees-meeting-65/
END:VEVENT
END:VCALENDAR